BEGIN:VCALENDAR
VERSION:2.0
PRODID:-//tandcschool.org//NONSGML kigkonsult.se iCalcreator 2.30.10//
CALSCALE:GREGORIAN
METHOD:PUBLISH
UID:86ca2fd9-d8ea-43d8-b12f-b211848e5d62
X-WR-CALDESC:
X-WR-RELCALID:821046a4b970f7194b808d3f44175478
X-WR-TIMEZONE:America/Chicago
BEGIN:VTIMEZONE
TZID:America/Chicago
BEGIN:STANDARD
TZNAME:CST
DTSTART:20241103T020000
TZOFFSETFROM:-0500
TZOFFSETTO:-0600
RDATE:20251102T020000
END:STANDARD
BEGIN:DAYLIGHT
TZNAME:CDT
DTSTART:20240310T020000
TZOFFSETFROM:-0600
TZOFFSETTO:-0500
RDATE:20250309T020000
RDATE:20260308T020000
END:DAYLIGHT
END:VTIMEZONE
BEGIN:VEVENT
UID:89087c8d-7a47-4fff-a970-8ced870b2cde
DTSTAMP:20260423T133814Z
DESCRIPTION:
DTSTART;TZID=America/Chicago:20241211T153000
DTEND;TZID=America/Chicago:20241211T170000
LOCATION:
SUMMARY:Bowling
END:VEVENT
END:VCALENDAR
