BEGIN:VCALENDAR
VERSION:2.0
PRODID:-//tandcschool.org//NONSGML kigkonsult.se iCalcreator 2.30.10//
CALSCALE:GREGORIAN
METHOD:PUBLISH
UID:1957874d-bdf1-4a2b-8d0f-00e573f7ab9d
X-WR-CALDESC:
X-WR-RELCALID:07de3687d3be84f7edbb85aec60eddbb
X-WR-TIMEZONE:America/Chicago
BEGIN:VTIMEZONE
TZID:America/Chicago
BEGIN:STANDARD
TZNAME:CST
DTSTART:20241103T020000
TZOFFSETFROM:-0500
TZOFFSETTO:-0600
RDATE:20251102T020000
END:STANDARD
BEGIN:DAYLIGHT
TZNAME:CDT
DTSTART:20240310T020000
TZOFFSETFROM:-0600
TZOFFSETTO:-0500
RDATE:20250309T020000
RDATE:20260308T020000
END:DAYLIGHT
END:VTIMEZONE
BEGIN:VEVENT
UID:4573111a-f3f5-4831-be93-33ee62f664e9
DTSTAMP:20260423T133701Z
DESCRIPTION:
DTSTART;TZID=America/Chicago:20241209T152000
DTEND;TZID=America/Chicago:20241209T160000
LOCATION:
SUMMARY:LS Art Club A
END:VEVENT
END:VCALENDAR
