BEGIN:VCALENDAR
VERSION:2.0
PRODID:-//tandcschool.org//NONSGML kigkonsult.se iCalcreator 2.30.10//
CALSCALE:GREGORIAN
METHOD:PUBLISH
UID:9dd0948e-c13b-4f40-9c7b-efa3d43d48b3
X-WR-CALDESC:
X-WR-RELCALID:431965972870fb61fcc9f3bf24be3311
X-WR-TIMEZONE:America/Chicago
BEGIN:VTIMEZONE
TZID:America/Chicago
BEGIN:STANDARD
TZNAME:CST
DTSTART:20241103T020000
TZOFFSETFROM:-0500
TZOFFSETTO:-0600
RDATE:20251102T020000
END:STANDARD
BEGIN:DAYLIGHT
TZNAME:CDT
DTSTART:20240310T020000
TZOFFSETFROM:-0600
TZOFFSETTO:-0500
RDATE:20250309T020000
RDATE:20260308T020000
END:DAYLIGHT
END:VTIMEZONE
BEGIN:VEVENT
UID:ac67100a-9b3f-4c38-82ad-97d104964d0f
DTSTAMP:20260423T133649Z
DESCRIPTION:
DTSTART;TZID=America/Chicago:20241209T150000
DTEND;TZID=America/Chicago:20241209T160000
LOCATION:
SUMMARY:Cheer
END:VEVENT
END:VCALENDAR
