BEGIN:VCALENDAR
VERSION:2.0
PRODID:-//tandcschool.org//NONSGML kigkonsult.se iCalcreator 2.30.10//
CALSCALE:GREGORIAN
METHOD:PUBLISH
UID:b959bca7-1aad-454c-b38f-628bff71d705
X-WR-CALDESC:
X-WR-RELCALID:46276f86d4aaccac64e6867accf2c6fc
X-WR-TIMEZONE:America/Chicago
BEGIN:VTIMEZONE
TZID:America/Chicago
BEGIN:STANDARD
TZNAME:CST
DTSTART:20241103T020000
TZOFFSETFROM:-0500
TZOFFSETTO:-0600
RDATE:20251102T020000
END:STANDARD
BEGIN:DAYLIGHT
TZNAME:CDT
DTSTART:20240310T020000
TZOFFSETFROM:-0600
TZOFFSETTO:-0500
RDATE:20250309T020000
RDATE:20260308T020000
END:DAYLIGHT
END:VTIMEZONE
BEGIN:VEVENT
UID:74134a67-c83a-44ae-81b4-ccd473a5a468
DTSTAMP:20260423T133515Z
DESCRIPTION:
DTSTART;TZID=America/Chicago:20241207T050000
DTEND;TZID=America/Chicago:20241207T050001
LOCATION:
SUMMARY:Broken Arrow Christmas Parade
END:VEVENT
END:VCALENDAR
