BEGIN:VCALENDAR
VERSION:2.0
PRODID:-//tandcschool.org//NONSGML kigkonsult.se iCalcreator 2.30.10//
CALSCALE:GREGORIAN
METHOD:PUBLISH
UID:6c0a4eac-87cd-4594-b950-2ada8fff710e
X-WR-CALDESC:
X-WR-RELCALID:7a1c24c8f968fe9da7941cd543d61d50
X-WR-TIMEZONE:America/Chicago
BEGIN:VTIMEZONE
TZID:America/Chicago
BEGIN:STANDARD
TZNAME:CST
DTSTART:20241103T020000
TZOFFSETFROM:-0500
TZOFFSETTO:-0600
RDATE:20251102T020000
END:STANDARD
BEGIN:DAYLIGHT
TZNAME:CDT
DTSTART:20240310T020000
TZOFFSETFROM:-0600
TZOFFSETTO:-0500
RDATE:20250309T020000
RDATE:20260308T020000
END:DAYLIGHT
END:VTIMEZONE
BEGIN:VEVENT
UID:b556a5b0-c147-4df5-9393-a131fcfb107b
DTSTAMP:20260423T133525Z
DESCRIPTION:
DTSTART;TZID=America/Chicago:20241206T150000
DTEND;TZID=America/Chicago:20241206T154500
LOCATION:
SUMMARY:Gaming Club B
END:VEVENT
END:VCALENDAR
