BEGIN:VCALENDAR
VERSION:2.0
PRODID:-//tandcschool.org//NONSGML kigkonsult.se iCalcreator 2.30.10//
CALSCALE:GREGORIAN
METHOD:PUBLISH
UID:9206863e-7e46-4665-ad13-a53670d23621
X-WR-CALDESC:
X-WR-RELCALID:e22a6a19da555c85747ac87996301a1a
X-WR-TIMEZONE:America/Chicago
BEGIN:VTIMEZONE
TZID:America/Chicago
BEGIN:STANDARD
TZNAME:CST
DTSTART:20241103T020000
TZOFFSETFROM:-0500
TZOFFSETTO:-0600
RDATE:20251102T020000
END:STANDARD
BEGIN:DAYLIGHT
TZNAME:CDT
DTSTART:20240310T020000
TZOFFSETFROM:-0600
TZOFFSETTO:-0500
RDATE:20250309T020000
RDATE:20260308T020000
END:DAYLIGHT
END:VTIMEZONE
BEGIN:VEVENT
UID:aca7ea30-8ed9-4023-920a-34992864f1d3
DTSTAMP:20260423T133726Z
DESCRIPTION:
DTSTART;TZID=America/Chicago:20241206T150000
DTEND;TZID=America/Chicago:20241206T154500
LOCATION:
SUMMARY:Astronomy Club
END:VEVENT
END:VCALENDAR
