BEGIN:VCALENDAR
VERSION:2.0
PRODID:-//tandcschool.org//NONSGML kigkonsult.se iCalcreator 2.30.10//
CALSCALE:GREGORIAN
METHOD:PUBLISH
UID:4ba22b6f-9560-4c39-83ba-f83036cd1baa
X-WR-CALDESC:
X-WR-RELCALID:000b23509a71f3b1e90c7962eb9a5617
X-WR-TIMEZONE:America/Chicago
BEGIN:VTIMEZONE
TZID:America/Chicago
BEGIN:STANDARD
TZNAME:CST
DTSTART:20241103T020000
TZOFFSETFROM:-0500
TZOFFSETTO:-0600
RDATE:20251102T020000
END:STANDARD
BEGIN:DAYLIGHT
TZNAME:CDT
DTSTART:20240310T020000
TZOFFSETFROM:-0600
TZOFFSETTO:-0500
RDATE:20250309T020000
RDATE:20260308T020000
END:DAYLIGHT
END:VTIMEZONE
BEGIN:VEVENT
UID:93da0d20-e6f5-446e-802e-e3ca91e0aa41
DTSTAMP:20260423T131935Z
DESCRIPTION:
DTSTART;TZID=America/Chicago:20241205T151500
DTEND;TZID=America/Chicago:20241205T160000
LOCATION:
SUMMARY:Band
END:VEVENT
END:VCALENDAR
