BEGIN:VCALENDAR
VERSION:2.0
PRODID:-//tandcschool.org//NONSGML kigkonsult.se iCalcreator 2.30.10//
CALSCALE:GREGORIAN
METHOD:PUBLISH
UID:8364523a-c93c-4866-812c-d8bcbe64be1f
X-WR-CALDESC:
X-WR-RELCALID:9cca5f419f5187910d6d51d862d48919
X-WR-TIMEZONE:America/Chicago
BEGIN:VTIMEZONE
TZID:America/Chicago
BEGIN:STANDARD
TZNAME:CST
DTSTART:20241103T020000
TZOFFSETFROM:-0500
TZOFFSETTO:-0600
RDATE:20251102T020000
END:STANDARD
BEGIN:DAYLIGHT
TZNAME:CDT
DTSTART:20240310T020000
TZOFFSETFROM:-0600
TZOFFSETTO:-0500
RDATE:20250309T020000
RDATE:20260308T020000
END:DAYLIGHT
END:VTIMEZONE
BEGIN:VEVENT
UID:82048745-757f-400e-879d-bc0d18fd0b41
DTSTAMP:20260423T133537Z
DESCRIPTION:
DTSTART;TZID=America/Chicago:20241204T152000
DTEND;TZID=America/Chicago:20241204T160000
LOCATION:
SUMMARY:Production Club
END:VEVENT
END:VCALENDAR
