BEGIN:VCALENDAR
VERSION:2.0
PRODID:-//tandcschool.org//NONSGML kigkonsult.se iCalcreator 2.30.10//
CALSCALE:GREGORIAN
METHOD:PUBLISH
UID:3b0daafe-c1db-4131-a5bf-edf37817db8a
X-WR-CALDESC:
X-WR-RELCALID:419b21dad9197b28ea328d692328ef01
X-WR-TIMEZONE:America/Chicago
BEGIN:VTIMEZONE
TZID:America/Chicago
BEGIN:STANDARD
TZNAME:CST
DTSTART:20241103T020000
TZOFFSETFROM:-0500
TZOFFSETTO:-0600
RDATE:20251102T020000
END:STANDARD
BEGIN:DAYLIGHT
TZNAME:CDT
DTSTART:20240310T020000
TZOFFSETFROM:-0600
TZOFFSETTO:-0500
RDATE:20250309T020000
RDATE:20260308T020000
END:DAYLIGHT
END:VTIMEZONE
BEGIN:VEVENT
UID:7b7c20a1-bddf-418e-8f04-80885db787ce
DTSTAMP:20260423T133330Z
DESCRIPTION:
DTSTART;TZID=America/Chicago:20241202T150000
DTEND;TZID=America/Chicago:20241202T154500
LOCATION:
SUMMARY:Chess Club
END:VEVENT
END:VCALENDAR
