BEGIN:VCALENDAR
VERSION:2.0
PRODID:-//tandcschool.org//NONSGML kigkonsult.se iCalcreator 2.30.10//
CALSCALE:GREGORIAN
METHOD:PUBLISH
UID:25e5f552-fbd3-42d7-b200-574dacb9aeff
X-WR-CALDESC:
X-WR-RELCALID:faa0a4e69bc37aa6dc7de054fce7d202
X-WR-TIMEZONE:America/Chicago
BEGIN:VTIMEZONE
TZID:America/Chicago
BEGIN:STANDARD
TZNAME:CST
DTSTART:20241103T020000
TZOFFSETFROM:-0500
TZOFFSETTO:-0600
RDATE:20251102T020000
END:STANDARD
BEGIN:DAYLIGHT
TZNAME:CDT
DTSTART:20240310T020000
TZOFFSETFROM:-0600
TZOFFSETTO:-0500
RDATE:20250309T020000
RDATE:20260308T020000
END:DAYLIGHT
END:VTIMEZONE
BEGIN:VEVENT
UID:6a450c4a-a182-498f-ade6-341e5e0f8827
DTSTAMP:20260423T145345Z
DESCRIPTION:
DTSTART;TZID=America/Chicago:20241125T050000
DTEND;TZID=America/Chicago:20241129T050001
LOCATION:
SUMMARY:Thanksgiving Break
END:VEVENT
END:VCALENDAR
