BEGIN:VCALENDAR
VERSION:2.0
PRODID:-//tandcschool.org//NONSGML kigkonsult.se iCalcreator 2.30.10//
CALSCALE:GREGORIAN
METHOD:PUBLISH
UID:f19ecd2d-73db-4020-9a40-de1ff5b835d4
X-WR-CALDESC:
X-WR-RELCALID:0269d26bdfb390164eadf6b679da7e03
X-WR-TIMEZONE:America/Chicago
BEGIN:VTIMEZONE
TZID:America/Chicago
BEGIN:STANDARD
TZNAME:CST
DTSTART:20241103T020000
TZOFFSETFROM:-0500
TZOFFSETTO:-0600
RDATE:20251102T020000
END:STANDARD
BEGIN:DAYLIGHT
TZNAME:CDT
DTSTART:20240310T020000
TZOFFSETFROM:-0600
TZOFFSETTO:-0500
RDATE:20250309T020000
RDATE:20260308T020000
END:DAYLIGHT
END:VTIMEZONE
BEGIN:VEVENT
UID:c8ab2a4e-5d98-42af-948b-2f172864ebf3
DTSTAMP:20260423T151646Z
DESCRIPTION:
DTSTART;TZID=America/Chicago:20241122T150000
DTEND;TZID=America/Chicago:20241122T154500
LOCATION:
SUMMARY:Astronomy Club
END:VEVENT
END:VCALENDAR
