BEGIN:VCALENDAR
VERSION:2.0
PRODID:-//tandcschool.org//NONSGML kigkonsult.se iCalcreator 2.30.10//
CALSCALE:GREGORIAN
METHOD:PUBLISH
UID:553a3cf8-6cc4-45bf-b25e-eaf11d9aba95
X-WR-CALDESC:
X-WR-RELCALID:e60599101d1c630b7fc2a512354fa864
X-WR-TIMEZONE:America/Chicago
BEGIN:VTIMEZONE
TZID:America/Chicago
BEGIN:STANDARD
TZNAME:CST
DTSTART:20241103T020000
TZOFFSETFROM:-0500
TZOFFSETTO:-0600
RDATE:20251102T020000
END:STANDARD
BEGIN:DAYLIGHT
TZNAME:CDT
DTSTART:20240310T020000
TZOFFSETFROM:-0600
TZOFFSETTO:-0500
RDATE:20250309T020000
RDATE:20260308T020000
END:DAYLIGHT
END:VTIMEZONE
BEGIN:VEVENT
UID:80e5e2e1-e77c-46dd-aa7c-aeedf01b52e9
DTSTAMP:20260423T151339Z
DESCRIPTION:
DTSTART;TZID=America/Chicago:20241122T150000
DTEND;TZID=America/Chicago:20241122T154500
LOCATION:
SUMMARY:Gaming Club A
END:VEVENT
END:VCALENDAR
