BEGIN:VCALENDAR
VERSION:2.0
PRODID:-//tandcschool.org//NONSGML kigkonsult.se iCalcreator 2.30.10//
CALSCALE:GREGORIAN
METHOD:PUBLISH
UID:8aa8b7a4-c503-4304-802d-8e0c68838250
X-WR-CALDESC:
X-WR-RELCALID:cd2b0c43d58e6da2c86547e87597962e
X-WR-TIMEZONE:America/Chicago
BEGIN:VTIMEZONE
TZID:America/Chicago
BEGIN:STANDARD
TZNAME:CST
DTSTART:20241103T020000
TZOFFSETFROM:-0500
TZOFFSETTO:-0600
RDATE:20251102T020000
END:STANDARD
BEGIN:DAYLIGHT
TZNAME:CDT
DTSTART:20240310T020000
TZOFFSETFROM:-0600
TZOFFSETTO:-0500
RDATE:20250309T020000
RDATE:20260308T020000
END:DAYLIGHT
END:VTIMEZONE
BEGIN:VEVENT
UID:8a3d9eec-609b-4bce-b936-5ccddf3a56cd
DTSTAMP:20260423T152119Z
DESCRIPTION:
DTSTART;TZID=America/Chicago:20241121T150000
DTEND;TZID=America/Chicago:20241121T154500
LOCATION:
SUMMARY:Crochet Club
END:VEVENT
END:VCALENDAR
