BEGIN:VCALENDAR
VERSION:2.0
PRODID:-//tandcschool.org//NONSGML kigkonsult.se iCalcreator 2.30.10//
CALSCALE:GREGORIAN
METHOD:PUBLISH
UID:a5f46c9f-0063-4dee-b961-7fc1eb2ed2b6
X-WR-CALDESC:
X-WR-RELCALID:bbb0efb03ac4f6521ff299e60fae13d9
X-WR-TIMEZONE:America/Chicago
BEGIN:VTIMEZONE
TZID:America/Chicago
BEGIN:STANDARD
TZNAME:CST
DTSTART:20241103T020000
TZOFFSETFROM:-0500
TZOFFSETTO:-0600
RDATE:20251102T020000
END:STANDARD
BEGIN:DAYLIGHT
TZNAME:CDT
DTSTART:20240310T020000
TZOFFSETFROM:-0600
TZOFFSETTO:-0500
RDATE:20250309T020000
RDATE:20260308T020000
END:DAYLIGHT
END:VTIMEZONE
BEGIN:VEVENT
UID:0104eb4f-5fb3-4955-9e49-9257866483c8
DTSTAMP:20260423T151252Z
DESCRIPTION:
DTSTART;TZID=America/Chicago:20241120T152000
DTEND;TZID=America/Chicago:20241120T160000
LOCATION:
SUMMARY:Production Club
END:VEVENT
END:VCALENDAR
