BEGIN:VCALENDAR
VERSION:2.0
PRODID:-//tandcschool.org//NONSGML kigkonsult.se iCalcreator 2.30.10//
CALSCALE:GREGORIAN
METHOD:PUBLISH
UID:2f6e43ea-f292-4540-b833-025a5050dbca
X-WR-CALDESC:
X-WR-RELCALID:ba4eac64038252216c13ca9ca2ed78c2
X-WR-TIMEZONE:America/Chicago
BEGIN:VTIMEZONE
TZID:America/Chicago
BEGIN:STANDARD
TZNAME:CST
DTSTART:20241103T020000
TZOFFSETFROM:-0500
TZOFFSETTO:-0600
RDATE:20251102T020000
END:STANDARD
BEGIN:DAYLIGHT
TZNAME:CDT
DTSTART:20240310T020000
TZOFFSETFROM:-0600
TZOFFSETTO:-0500
RDATE:20250309T020000
RDATE:20260308T020000
END:DAYLIGHT
END:VTIMEZONE
BEGIN:VEVENT
UID:7ccb2e0a-b32d-4aae-94bb-fcdddb6bf963
DTSTAMP:20260423T151339Z
DESCRIPTION:
DTSTART;TZID=America/Chicago:20241116T180000
DTEND;TZID=America/Chicago:20241116T200000
LOCATION:
SUMMARY:Astronomy Family Night
END:VEVENT
END:VCALENDAR
