BEGIN:VCALENDAR
VERSION:2.0
PRODID:-//tandcschool.org//NONSGML kigkonsult.se iCalcreator 2.30.10//
CALSCALE:GREGORIAN
METHOD:PUBLISH
UID:6fc0b095-baae-4538-9f86-669d5e0d77fc
X-WR-CALDESC:
X-WR-RELCALID:9d0b2c9ebd3c76cba97b6cdc27a9eb5f
X-WR-TIMEZONE:America/Chicago
BEGIN:VTIMEZONE
TZID:America/Chicago
BEGIN:STANDARD
TZNAME:CST
DTSTART:20241103T020000
TZOFFSETFROM:-0500
TZOFFSETTO:-0600
RDATE:20251102T020000
END:STANDARD
BEGIN:DAYLIGHT
TZNAME:CDT
DTSTART:20240310T020000
TZOFFSETFROM:-0600
TZOFFSETTO:-0500
RDATE:20250309T020000
RDATE:20260308T020000
END:DAYLIGHT
END:VTIMEZONE
BEGIN:VEVENT
UID:3b826f2b-1d06-476f-be95-4ac22c55d4b2
DTSTAMP:20260423T145339Z
DESCRIPTION:
DTSTART;TZID=America/Chicago:20241115T050000
DTEND;TZID=America/Chicago:20241115T050001
LOCATION:
SUMMARY:Hearing Screenings
END:VEVENT
END:VCALENDAR
