BEGIN:VCALENDAR
VERSION:2.0
PRODID:-//tandcschool.org//NONSGML kigkonsult.se iCalcreator 2.30.10//
CALSCALE:GREGORIAN
METHOD:PUBLISH
UID:62f976ba-2355-4519-af80-dede7ec9aa97
X-WR-CALDESC:
X-WR-RELCALID:5c68b269695c3bfed0f9341926131381
X-WR-TIMEZONE:America/Chicago
BEGIN:VTIMEZONE
TZID:America/Chicago
BEGIN:STANDARD
TZNAME:CST
DTSTART:20241103T020000
TZOFFSETFROM:-0500
TZOFFSETTO:-0600
RDATE:20251102T020000
END:STANDARD
BEGIN:DAYLIGHT
TZNAME:CDT
DTSTART:20240310T020000
TZOFFSETFROM:-0600
TZOFFSETTO:-0500
RDATE:20250309T020000
RDATE:20260308T020000
END:DAYLIGHT
END:VTIMEZONE
BEGIN:VEVENT
UID:4220b3ed-1fa7-4aad-94d4-c8dba667ebb4
DTSTAMP:20260423T145345Z
DESCRIPTION:
DTSTART;TZID=America/Chicago:20241114T151500
DTEND;TZID=America/Chicago:20241114T160000
LOCATION:
SUMMARY:Band
END:VEVENT
END:VCALENDAR
