BEGIN:VCALENDAR
VERSION:2.0
PRODID:-//tandcschool.org//NONSGML kigkonsult.se iCalcreator 2.30.10//
CALSCALE:GREGORIAN
METHOD:PUBLISH
UID:dc88e890-ef44-48e7-a3c9-5705a96d13e1
X-WR-CALDESC:
X-WR-RELCALID:e845025fca6227861d1c7afa4d8e4ddd
X-WR-TIMEZONE:America/Chicago
BEGIN:VTIMEZONE
TZID:America/Chicago
BEGIN:STANDARD
TZNAME:CST
DTSTART:20241103T020000
TZOFFSETFROM:-0500
TZOFFSETTO:-0600
RDATE:20251102T020000
END:STANDARD
BEGIN:DAYLIGHT
TZNAME:CDT
DTSTART:20240310T020000
TZOFFSETFROM:-0600
TZOFFSETTO:-0500
RDATE:20250309T020000
RDATE:20260308T020000
END:DAYLIGHT
END:VTIMEZONE
BEGIN:VEVENT
UID:4c632ae4-82e0-42cc-ab09-553aa402471d
DTSTAMP:20260423T151440Z
DESCRIPTION:
DTSTART;TZID=America/Chicago:20241113T150000
DTEND;TZID=America/Chicago:20241113T154500
LOCATION:
SUMMARY:HS Art Club
END:VEVENT
END:VCALENDAR
