BEGIN:VCALENDAR
VERSION:2.0
PRODID:-//tandcschool.org//NONSGML kigkonsult.se iCalcreator 2.30.10//
CALSCALE:GREGORIAN
METHOD:PUBLISH
UID:0e79343b-e190-4e85-aea1-842434011901
X-WR-CALDESC:
X-WR-RELCALID:a9d74e3b5dc04cc5c8e1112f8ac7e61e
X-WR-TIMEZONE:America/Chicago
BEGIN:VTIMEZONE
TZID:America/Chicago
BEGIN:STANDARD
TZNAME:CST
DTSTART:20241103T020000
TZOFFSETFROM:-0500
TZOFFSETTO:-0600
RDATE:20251102T020000
END:STANDARD
BEGIN:DAYLIGHT
TZNAME:CDT
DTSTART:20240310T020000
TZOFFSETFROM:-0600
TZOFFSETTO:-0500
RDATE:20250309T020000
RDATE:20260308T020000
END:DAYLIGHT
END:VTIMEZONE
BEGIN:VEVENT
UID:c07369ae-6f68-4e33-b210-73dba6e68a53
DTSTAMP:20260423T152502Z
DESCRIPTION:
DTSTART;TZID=America/Chicago:20241113T153000
DTEND;TZID=America/Chicago:20241113T170000
LOCATION:
SUMMARY:Bowling
END:VEVENT
END:VCALENDAR
