BEGIN:VCALENDAR
VERSION:2.0
PRODID:-//tandcschool.org//NONSGML kigkonsult.se iCalcreator 2.30.10//
CALSCALE:GREGORIAN
METHOD:PUBLISH
UID:8776c17c-6cea-48c3-80e6-6e2a59657d45
X-WR-CALDESC:
X-WR-RELCALID:dfa58c32955d7ac40601e9e2c637d331
X-WR-TIMEZONE:America/Chicago
BEGIN:VTIMEZONE
TZID:America/Chicago
BEGIN:STANDARD
TZNAME:CST
DTSTART:20241103T020000
TZOFFSETFROM:-0500
TZOFFSETTO:-0600
RDATE:20251102T020000
END:STANDARD
BEGIN:DAYLIGHT
TZNAME:CDT
DTSTART:20240310T020000
TZOFFSETFROM:-0600
TZOFFSETTO:-0500
RDATE:20250309T020000
RDATE:20260308T020000
END:DAYLIGHT
END:VTIMEZONE
BEGIN:VEVENT
UID:21a5a36d-1948-4bee-ba14-8fbeed30b4ba
DTSTAMP:20260423T150450Z
DESCRIPTION:
DTSTART;TZID=America/Chicago:20241112T150000
DTEND;TZID=America/Chicago:20241112T163000
LOCATION:
SUMMARY:Basketball
END:VEVENT
END:VCALENDAR
