BEGIN:VCALENDAR
VERSION:2.0
PRODID:-//tandcschool.org//NONSGML kigkonsult.se iCalcreator 2.30.10//
CALSCALE:GREGORIAN
METHOD:PUBLISH
UID:629848eb-8ef0-45ad-8e31-69ca6edb5ce9
X-WR-CALDESC:
X-WR-RELCALID:fc0c636d25d0107b15816b313397ac19
X-WR-TIMEZONE:America/Chicago
BEGIN:VTIMEZONE
TZID:America/Chicago
BEGIN:STANDARD
TZNAME:CST
DTSTART:20241103T020000
TZOFFSETFROM:-0500
TZOFFSETTO:-0600
RDATE:20251102T020000
END:STANDARD
BEGIN:DAYLIGHT
TZNAME:CDT
DTSTART:20240310T020000
TZOFFSETFROM:-0600
TZOFFSETTO:-0500
RDATE:20250309T020000
RDATE:20260308T020000
END:DAYLIGHT
END:VTIMEZONE
BEGIN:VEVENT
UID:f773b820-cb08-4ff3-a2b6-2ded837e9314
DTSTAMP:20260423T152456Z
DESCRIPTION:
DTSTART;TZID=America/Chicago:20241108T050000
DTEND;TZID=America/Chicago:20241108T050001
LOCATION:
SUMMARY:Free Dress Day
END:VEVENT
END:VCALENDAR
