BEGIN:VCALENDAR
VERSION:2.0
PRODID:-//tandcschool.org//NONSGML kigkonsult.se iCalcreator 2.30.10//
CALSCALE:GREGORIAN
METHOD:PUBLISH
UID:158363ed-e981-43f7-8a61-6da0412b4ad6
X-WR-CALDESC:
X-WR-RELCALID:58c2baa29d14277d1a276ec783f3e059
X-WR-TIMEZONE:America/Chicago
BEGIN:VTIMEZONE
TZID:America/Chicago
BEGIN:STANDARD
TZNAME:CST
DTSTART:20241103T020000
TZOFFSETFROM:-0500
TZOFFSETTO:-0600
RDATE:20251102T020000
END:STANDARD
BEGIN:DAYLIGHT
TZNAME:CDT
DTSTART:20240310T020000
TZOFFSETFROM:-0600
TZOFFSETTO:-0500
RDATE:20250309T020000
RDATE:20260308T020000
END:DAYLIGHT
END:VTIMEZONE
BEGIN:VEVENT
UID:60181e60-20ba-49be-94f3-4ed493be0ac0
DTSTAMP:20260423T145400Z
DESCRIPTION:
DTSTART;TZID=America/Chicago:20241108T050000
DTEND;TZID=America/Chicago:20241108T050001
LOCATION:
SUMMARY:Fast Food Friday
END:VEVENT
END:VCALENDAR
