BEGIN:VCALENDAR
VERSION:2.0
PRODID:-//tandcschool.org//NONSGML kigkonsult.se iCalcreator 2.30.10//
CALSCALE:GREGORIAN
METHOD:PUBLISH
UID:31a60132-c64e-4e40-b27f-d30a86f5dc2a
X-WR-CALDESC:
X-WR-RELCALID:f3818c8c89e8bbaa67c15700bbb4ed64
X-WR-TIMEZONE:America/Chicago
BEGIN:VTIMEZONE
TZID:America/Chicago
BEGIN:STANDARD
TZNAME:CST
DTSTART:20241103T020000
TZOFFSETFROM:-0500
TZOFFSETTO:-0600
RDATE:20251102T020000
END:STANDARD
BEGIN:DAYLIGHT
TZNAME:CDT
DTSTART:20240310T020000
TZOFFSETFROM:-0600
TZOFFSETTO:-0500
RDATE:20250309T020000
RDATE:20260308T020000
END:DAYLIGHT
END:VTIMEZONE
BEGIN:VEVENT
UID:4f0b4a44-38c2-45ca-ba10-365ad7df1149
DTSTAMP:20260423T151503Z
DESCRIPTION:
DTSTART;TZID=America/Chicago:20241108T150000
DTEND;TZID=America/Chicago:20241108T154500
LOCATION:
SUMMARY:Astronomy Club
END:VEVENT
END:VCALENDAR
