BEGIN:VCALENDAR
VERSION:2.0
PRODID:-//tandcschool.org//NONSGML kigkonsult.se iCalcreator 2.30.10//
CALSCALE:GREGORIAN
METHOD:PUBLISH
UID:dea652c8-c527-4957-815d-34850a00ea70
X-WR-CALDESC:
X-WR-RELCALID:323ca64a7e0ef3c1257d00717dc80bef
X-WR-TIMEZONE:America/Chicago
BEGIN:VTIMEZONE
TZID:America/Chicago
BEGIN:STANDARD
TZNAME:CST
DTSTART:20241103T020000
TZOFFSETFROM:-0500
TZOFFSETTO:-0600
RDATE:20251102T020000
END:STANDARD
BEGIN:DAYLIGHT
TZNAME:CDT
DTSTART:20240310T020000
TZOFFSETFROM:-0600
TZOFFSETTO:-0500
RDATE:20250309T020000
RDATE:20260308T020000
END:DAYLIGHT
END:VTIMEZONE
BEGIN:VEVENT
UID:d12731aa-072b-4bc5-b8c1-ce321304185b
DTSTAMP:20260423T145547Z
DESCRIPTION:
DTSTART;TZID=America/Chicago:20241106T150000
DTEND;TZID=America/Chicago:20241106T154500
LOCATION:
SUMMARY:MS Art Club
END:VEVENT
END:VCALENDAR
