BEGIN:VCALENDAR
VERSION:2.0
PRODID:-//tandcschool.org//NONSGML kigkonsult.se iCalcreator 2.30.10//
CALSCALE:GREGORIAN
METHOD:PUBLISH
UID:307c683f-2b8d-46a6-8b3b-731c7aa9ed4e
X-WR-CALDESC:
X-WR-RELCALID:ad65df50295e11cb39f8003f36c939ec
X-WR-TIMEZONE:America/Chicago
BEGIN:VTIMEZONE
TZID:America/Chicago
BEGIN:STANDARD
TZNAME:CST
DTSTART:20241103T020000
TZOFFSETFROM:-0500
TZOFFSETTO:-0600
RDATE:20251102T020000
END:STANDARD
BEGIN:DAYLIGHT
TZNAME:CDT
DTSTART:20240310T020000
TZOFFSETFROM:-0600
TZOFFSETTO:-0500
RDATE:20250309T020000
RDATE:20260308T020000
END:DAYLIGHT
END:VTIMEZONE
BEGIN:VEVENT
UID:46e27684-c5ad-4a97-b36d-24ba057e2d70
DTSTAMP:20260423T151830Z
DESCRIPTION:
DTSTART;TZID=America/Chicago:20241106T152000
DTEND;TZID=America/Chicago:20241106T160000
LOCATION:
SUMMARY:Production Club
END:VEVENT
END:VCALENDAR
