BEGIN:VCALENDAR
VERSION:2.0
PRODID:-//tandcschool.org//NONSGML kigkonsult.se iCalcreator 2.30.10//
CALSCALE:GREGORIAN
METHOD:PUBLISH
UID:f79d561a-e7d6-40e5-a656-eaa4bb8fb72a
X-WR-CALDESC:
X-WR-RELCALID:c1dabfe06d0d0faff3d0387bec1d6487
X-WR-TIMEZONE:America/Chicago
BEGIN:VTIMEZONE
TZID:America/Chicago
BEGIN:STANDARD
TZNAME:CST
DTSTART:20241103T020000
TZOFFSETFROM:-0500
TZOFFSETTO:-0600
RDATE:20251102T020000
END:STANDARD
BEGIN:DAYLIGHT
TZNAME:CDT
DTSTART:20240310T020000
TZOFFSETFROM:-0600
TZOFFSETTO:-0500
RDATE:20250309T020000
RDATE:20260308T020000
END:DAYLIGHT
END:VTIMEZONE
BEGIN:VEVENT
UID:51d67e0f-9683-444c-b60b-ef7cc8c0d50e
DTSTAMP:20260423T151658Z
DESCRIPTION:
DTSTART;TZID=America/Chicago:20241105T080000
DTEND;TZID=America/Chicago:20241105T103000
LOCATION:
SUMMARY:Book Fair: HS Friends and Family Day
END:VEVENT
END:VCALENDAR
