BEGIN:VCALENDAR
VERSION:2.0
PRODID:-//tandcschool.org//NONSGML kigkonsult.se iCalcreator 2.30.10//
CALSCALE:GREGORIAN
METHOD:PUBLISH
UID:0527e388-ae76-4271-b43f-e3dc20870516
X-WR-CALDESC:
X-WR-RELCALID:69e0449675dc573ad5aa4f3625783712
X-WR-TIMEZONE:America/Chicago
BEGIN:VTIMEZONE
TZID:America/Chicago
BEGIN:STANDARD
TZNAME:CST
DTSTART:20231105T020000
TZOFFSETFROM:-0500
TZOFFSETTO:-0600
RDATE:20241103T020000
RDATE:20251102T020000
END:STANDARD
BEGIN:DAYLIGHT
TZNAME:CDT
DTSTART:20240310T020000
TZOFFSETFROM:-0600
TZOFFSETTO:-0500
RDATE:20250309T020000
RDATE:20260308T020000
END:DAYLIGHT
END:VTIMEZONE
BEGIN:VEVENT
UID:480c160c-623f-42ea-9f06-834348b58190
DTSTAMP:20260423T151830Z
DESCRIPTION:
DTSTART;TZID=America/Chicago:20241104T050000
DTEND;TZID=America/Chicago:20241108T050001
LOCATION:
SUMMARY:Scholastic Book Fair
END:VEVENT
END:VCALENDAR
