BEGIN:VCALENDAR
VERSION:2.0
PRODID:-//tandcschool.org//NONSGML kigkonsult.se iCalcreator 2.30.10//
CALSCALE:GREGORIAN
METHOD:PUBLISH
UID:5ef84480-7021-4620-9365-9724ad0ce979
X-WR-CALDESC:
X-WR-RELCALID:84b1c9c6e76ec4d89a830f3a63022711
X-WR-TIMEZONE:America/Chicago
BEGIN:VTIMEZONE
TZID:America/Chicago
BEGIN:STANDARD
TZNAME:CST
DTSTART:20231105T020000
TZOFFSETFROM:-0500
TZOFFSETTO:-0600
RDATE:20241103T020000
RDATE:20251102T020000
END:STANDARD
BEGIN:DAYLIGHT
TZNAME:CDT
DTSTART:20240310T020000
TZOFFSETFROM:-0600
TZOFFSETTO:-0500
RDATE:20250309T020000
RDATE:20260308T020000
END:DAYLIGHT
END:VTIMEZONE
BEGIN:VEVENT
UID:c1076a91-bf14-4a59-ba8b-07ff1f9e368c
DTSTAMP:20260423T145401Z
DESCRIPTION:
DTSTART;TZID=America/Chicago:20241104T081500
DTEND;TZID=America/Chicago:20241104T091500
LOCATION:
SUMMARY:MS Key Choices
END:VEVENT
END:VCALENDAR
