BEGIN:VCALENDAR
VERSION:2.0
PRODID:-//tandcschool.org//NONSGML kigkonsult.se iCalcreator 2.30.10//
CALSCALE:GREGORIAN
METHOD:PUBLISH
UID:cf0fb720-d436-45ae-a718-3ad5aae6ef98
X-WR-CALDESC:
X-WR-RELCALID:c3b346a8d924aa7562dada26fc198c6a
X-WR-TIMEZONE:America/Chicago
BEGIN:VTIMEZONE
TZID:America/Chicago
BEGIN:STANDARD
TZNAME:CST
DTSTART:20231105T020000
TZOFFSETFROM:-0500
TZOFFSETTO:-0600
RDATE:20241103T020000
RDATE:20251102T020000
END:STANDARD
BEGIN:DAYLIGHT
TZNAME:CDT
DTSTART:20240310T020000
TZOFFSETFROM:-0600
TZOFFSETTO:-0500
RDATE:20250309T020000
RDATE:20260308T020000
END:DAYLIGHT
END:VTIMEZONE
BEGIN:VEVENT
UID:bcb5f35b-cce8-40c1-b642-2c5b63d98e30
DTSTAMP:20260423T145218Z
DESCRIPTION:
DTSTART;TZID=America/Chicago:20241104T050000
DTEND;TZID=America/Chicago:20241107T050001
LOCATION:
SUMMARY:ACT Testing
END:VEVENT
END:VCALENDAR
