BEGIN:VCALENDAR
VERSION:2.0
PRODID:-//tandcschool.org//NONSGML kigkonsult.se iCalcreator 2.30.10//
CALSCALE:GREGORIAN
METHOD:PUBLISH
UID:317a918f-5aaf-4039-bf92-f921fc8c54e5
X-WR-CALDESC:
X-WR-RELCALID:a379e155539dd096a5e75443a3a338e8
X-WR-TIMEZONE:America/Chicago
BEGIN:VTIMEZONE
TZID:America/Chicago
BEGIN:STANDARD
TZNAME:CST
DTSTART:20231105T020000
TZOFFSETFROM:-0500
TZOFFSETTO:-0600
RDATE:20241103T020000
RDATE:20251102T020000
END:STANDARD
BEGIN:DAYLIGHT
TZNAME:CDT
DTSTART:20240310T020000
TZOFFSETFROM:-0600
TZOFFSETTO:-0500
RDATE:20250309T020000
RDATE:20260308T020000
END:DAYLIGHT
END:VTIMEZONE
BEGIN:VEVENT
UID:e7530f30-8c1f-4072-802a-bee4d3e67bad
DTSTAMP:20260423T151052Z
DESCRIPTION:
DTSTART;TZID=America/Chicago:20241101T050000
DTEND;TZID=America/Chicago:20241101T050001
LOCATION:
SUMMARY:Staff Professional Development
END:VEVENT
END:VCALENDAR
