BEGIN:VCALENDAR
VERSION:2.0
PRODID:-//tandcschool.org//NONSGML kigkonsult.se iCalcreator 2.30.10//
CALSCALE:GREGORIAN
METHOD:PUBLISH
UID:06cd7b22-363f-4fef-85ab-7cf864a0a51c
X-WR-CALDESC:
X-WR-RELCALID:c6e020960d79fa51797871b9d85730a9
X-WR-TIMEZONE:America/Chicago
BEGIN:VTIMEZONE
TZID:America/Chicago
BEGIN:STANDARD
TZNAME:CST
DTSTART:20231105T020000
TZOFFSETFROM:-0500
TZOFFSETTO:-0600
RDATE:20241103T020000
RDATE:20251102T020000
END:STANDARD
BEGIN:DAYLIGHT
TZNAME:CDT
DTSTART:20240310T020000
TZOFFSETFROM:-0600
TZOFFSETTO:-0500
RDATE:20250309T020000
RDATE:20260308T020000
END:DAYLIGHT
END:VTIMEZONE
BEGIN:VEVENT
UID:00ac8d43-eff7-4d0b-b42d-0cf97211dfd1
DTSTAMP:20260423T162112Z
DESCRIPTION:
DTSTART;TZID=America/Chicago:20241031T140000
DTEND;TZID=America/Chicago:20241031T153000
LOCATION:
SUMMARY:LS Halloween Party
END:VEVENT
END:VCALENDAR
