BEGIN:VCALENDAR
VERSION:2.0
PRODID:-//tandcschool.org//NONSGML kigkonsult.se iCalcreator 2.30.10//
CALSCALE:GREGORIAN
METHOD:PUBLISH
UID:54b68e1f-68e2-4e44-af44-86ed457ae4b2
X-WR-CALDESC:(each student will receive 1 hotdog and 1 smore)
X-WR-RELCALID:c6e7c3b927f9b07b107ba6b87b1a87cd
X-WR-TIMEZONE:America/Chicago
BEGIN:VTIMEZONE
TZID:America/Chicago
BEGIN:STANDARD
TZNAME:CST
DTSTART:20231105T020000
TZOFFSETFROM:-0500
TZOFFSETTO:-0600
RDATE:20241103T020000
RDATE:20251102T020000
END:STANDARD
BEGIN:DAYLIGHT
TZNAME:CDT
DTSTART:20240310T020000
TZOFFSETFROM:-0600
TZOFFSETTO:-0500
RDATE:20250309T020000
RDATE:20260308T020000
END:DAYLIGHT
END:VTIMEZONE
BEGIN:VEVENT
UID:5f947f6a-69c6-46f6-b299-c762025b97ed
DTSTAMP:20260423T164534Z
DESCRIPTION:(each student will receive 1 hotdog and 1 smore)
DTSTART;TZID=America/Chicago:20241031T050000
DTEND;TZID=America/Chicago:20241031T050001
LOCATION:
SUMMARY:Hotdog and smores will be served at lunch
END:VEVENT
END:VCALENDAR
