BEGIN:VCALENDAR
VERSION:2.0
PRODID:-//tandcschool.org//NONSGML kigkonsult.se iCalcreator 2.30.10//
CALSCALE:GREGORIAN
METHOD:PUBLISH
UID:9e96717a-237a-4aa3-a518-04b13b70f77c
X-WR-CALDESC:
X-WR-RELCALID:c49c7c915d12f9a4fa1d769c5b7214ee
X-WR-TIMEZONE:America/Chicago
BEGIN:VTIMEZONE
TZID:America/Chicago
BEGIN:STANDARD
TZNAME:CST
DTSTART:20231105T020000
TZOFFSETFROM:-0500
TZOFFSETTO:-0600
RDATE:20241103T020000
RDATE:20251102T020000
END:STANDARD
BEGIN:DAYLIGHT
TZNAME:CDT
DTSTART:20240310T020000
TZOFFSETFROM:-0600
TZOFFSETTO:-0500
RDATE:20250309T020000
RDATE:20260308T020000
END:DAYLIGHT
END:VTIMEZONE
BEGIN:VEVENT
UID:b68db234-0f29-43b7-b789-19c1e154091d
DTSTAMP:20260423T164926Z
DESCRIPTION:
DTSTART;TZID=America/Chicago:20241031T050000
DTEND;TZID=America/Chicago:20241031T050001
LOCATION:
SUMMARY:Croctober- Students may wear Crocs
END:VEVENT
END:VCALENDAR
