BEGIN:VCALENDAR
VERSION:2.0
PRODID:-//tandcschool.org//NONSGML kigkonsult.se iCalcreator 2.30.10//
CALSCALE:GREGORIAN
METHOD:PUBLISH
UID:3691132a-df4f-4b1e-9a26-9edc25c69843
X-WR-CALDESC:
X-WR-RELCALID:a1a3bef8b9a0bad6c46de9b3bd0361da
X-WR-TIMEZONE:America/Chicago
BEGIN:VTIMEZONE
TZID:America/Chicago
BEGIN:STANDARD
TZNAME:CST
DTSTART:20231105T020000
TZOFFSETFROM:-0500
TZOFFSETTO:-0600
RDATE:20241103T020000
RDATE:20251102T020000
END:STANDARD
BEGIN:DAYLIGHT
TZNAME:CDT
DTSTART:20240310T020000
TZOFFSETFROM:-0600
TZOFFSETTO:-0500
RDATE:20250309T020000
RDATE:20260308T020000
END:DAYLIGHT
END:VTIMEZONE
BEGIN:VEVENT
UID:7d7802cd-eb18-4877-95f6-01fa82f8a9da
DTSTAMP:20260423T162340Z
DESCRIPTION:
DTSTART;TZID=America/Chicago:20241031T153000
DTEND;TZID=America/Chicago:20241031T163000
LOCATION:
SUMMARY:LS Cooking
END:VEVENT
END:VCALENDAR
