BEGIN:VCALENDAR
VERSION:2.0
PRODID:-//tandcschool.org//NONSGML kigkonsult.se iCalcreator 2.30.10//
CALSCALE:GREGORIAN
METHOD:PUBLISH
UID:4d383c48-7ad9-4a76-96ae-ab08547d0e7c
X-WR-CALDESC:
X-WR-RELCALID:9bf78589088a961600656f5dc68c8914
X-WR-TIMEZONE:America/Chicago
BEGIN:VTIMEZONE
TZID:America/Chicago
BEGIN:STANDARD
TZNAME:CST
DTSTART:20231105T020000
TZOFFSETFROM:-0500
TZOFFSETTO:-0600
RDATE:20241103T020000
RDATE:20251102T020000
END:STANDARD
BEGIN:DAYLIGHT
TZNAME:CDT
DTSTART:20240310T020000
TZOFFSETFROM:-0600
TZOFFSETTO:-0500
RDATE:20250309T020000
RDATE:20260308T020000
END:DAYLIGHT
END:VTIMEZONE
BEGIN:VEVENT
UID:4cb548e2-5905-487f-9498-5d6e56170df5
DTSTAMP:20260423T164219Z
DESCRIPTION:
DTSTART;TZID=America/Chicago:20241031T150000
DTEND;TZID=America/Chicago:20241031T163000
LOCATION:
SUMMARY:Basketball
END:VEVENT
END:VCALENDAR
