BEGIN:VCALENDAR
VERSION:2.0
PRODID:-//tandcschool.org//NONSGML kigkonsult.se iCalcreator 2.30.10//
CALSCALE:GREGORIAN
METHOD:PUBLISH
UID:c6dc5007-eb33-4e4a-b31d-75cc6b012d03
X-WR-CALDESC:
X-WR-RELCALID:556e2dc7bdf0172c7130d886e32cf7d1
X-WR-TIMEZONE:America/Chicago
BEGIN:VTIMEZONE
TZID:America/Chicago
BEGIN:STANDARD
TZNAME:CST
DTSTART:20231105T020000
TZOFFSETFROM:-0500
TZOFFSETTO:-0600
RDATE:20241103T020000
RDATE:20251102T020000
END:STANDARD
BEGIN:DAYLIGHT
TZNAME:CDT
DTSTART:20240310T020000
TZOFFSETFROM:-0600
TZOFFSETTO:-0500
RDATE:20250309T020000
RDATE:20260308T020000
END:DAYLIGHT
END:VTIMEZONE
BEGIN:VEVENT
UID:ee80d9bd-c5ba-4c30-a74d-89030ec9381b
DTSTAMP:20260423T162355Z
DESCRIPTION:
DTSTART;TZID=America/Chicago:20241029T151500
DTEND;TZID=America/Chicago:20241029T161500
LOCATION:
SUMMARY:US Cooking
END:VEVENT
END:VCALENDAR
