BEGIN:VCALENDAR
VERSION:2.0
PRODID:-//tandcschool.org//NONSGML kigkonsult.se iCalcreator 2.30.10//
CALSCALE:GREGORIAN
METHOD:PUBLISH
UID:f335c68e-bf60-4cbe-af41-87098e673601
X-WR-CALDESC:
X-WR-RELCALID:69e9a0211fd909c2e492f5846ce1e85f
X-WR-TIMEZONE:America/Chicago
BEGIN:VTIMEZONE
TZID:America/Chicago
BEGIN:STANDARD
TZNAME:CST
DTSTART:20231105T020000
TZOFFSETFROM:-0500
TZOFFSETTO:-0600
RDATE:20241103T020000
RDATE:20251102T020000
END:STANDARD
BEGIN:DAYLIGHT
TZNAME:CDT
DTSTART:20240310T020000
TZOFFSETFROM:-0600
TZOFFSETTO:-0500
RDATE:20250309T020000
RDATE:20260308T020000
END:DAYLIGHT
END:VTIMEZONE
BEGIN:VEVENT
UID:96f7288d-3abd-4a68-a7c4-4ea352433eb4
DTSTAMP:20260423T162103Z
DESCRIPTION:
DTSTART;TZID=America/Chicago:20241028T081500
DTEND;TZID=America/Chicago:20241028T091500
LOCATION:
SUMMARY:Key Choices MS
END:VEVENT
END:VCALENDAR
