BEGIN:VCALENDAR
VERSION:2.0
PRODID:-//tandcschool.org//NONSGML kigkonsult.se iCalcreator 2.30.10//
CALSCALE:GREGORIAN
METHOD:PUBLISH
UID:b9ee0e3e-ef6b-471a-a232-4a1f32029458
X-WR-CALDESC:
X-WR-RELCALID:def0f2a79489dec47ce2faacb2470b72
X-WR-TIMEZONE:America/Chicago
BEGIN:VTIMEZONE
TZID:America/Chicago
BEGIN:STANDARD
TZNAME:CST
DTSTART:20231105T020000
TZOFFSETFROM:-0500
TZOFFSETTO:-0600
RDATE:20241103T020000
RDATE:20251102T020000
END:STANDARD
BEGIN:DAYLIGHT
TZNAME:CDT
DTSTART:20240310T020000
TZOFFSETFROM:-0600
TZOFFSETTO:-0500
RDATE:20250309T020000
RDATE:20260308T020000
END:DAYLIGHT
END:VTIMEZONE
BEGIN:VEVENT
UID:4e0fdbf4-d628-44f5-bdd5-602e6ccd50f8
DTSTAMP:20260423T163341Z
DESCRIPTION:
DTSTART;TZID=America/Chicago:20241028T152000
DTEND;TZID=America/Chicago:20241028T160000
LOCATION:
SUMMARY:LS Art Club B
END:VEVENT
END:VCALENDAR
