BEGIN:VCALENDAR
VERSION:2.0
PRODID:-//tandcschool.org//NONSGML kigkonsult.se iCalcreator 2.30.10//
CALSCALE:GREGORIAN
METHOD:PUBLISH
UID:ef4b9158-eaee-422d-8f8f-42138464e9aa
X-WR-CALDESC:
X-WR-RELCALID:51fe4f25585344063f939cefee973739
X-WR-TIMEZONE:America/Chicago
BEGIN:VTIMEZONE
TZID:America/Chicago
BEGIN:STANDARD
TZNAME:CST
DTSTART:20231105T020000
TZOFFSETFROM:-0500
TZOFFSETTO:-0600
RDATE:20241103T020000
RDATE:20251102T020000
END:STANDARD
BEGIN:DAYLIGHT
TZNAME:CDT
DTSTART:20240310T020000
TZOFFSETFROM:-0600
TZOFFSETTO:-0500
RDATE:20250309T020000
RDATE:20260308T020000
END:DAYLIGHT
END:VTIMEZONE
BEGIN:VEVENT
UID:519f388e-4f80-459c-a9b2-42d3587b54f7
DTSTAMP:20260423T163433Z
DESCRIPTION:
DTSTART;TZID=America/Chicago:20241028T150000
DTEND;TZID=America/Chicago:20241028T160000
LOCATION:
SUMMARY:MS Lego Club
END:VEVENT
END:VCALENDAR
