BEGIN:VCALENDAR
VERSION:2.0
PRODID:-//tandcschool.org//NONSGML kigkonsult.se iCalcreator 2.30.10//
CALSCALE:GREGORIAN
METHOD:PUBLISH
UID:5154f1b6-9887-4e51-b55f-c7a7dcb03b55
X-WR-CALDESC:
X-WR-RELCALID:66a685a9a4cf42d4c7da68a1ad1e3e81
X-WR-TIMEZONE:America/Chicago
BEGIN:VTIMEZONE
TZID:America/Chicago
BEGIN:STANDARD
TZNAME:CST
DTSTART:20231105T020000
TZOFFSETFROM:-0500
TZOFFSETTO:-0600
RDATE:20241103T020000
RDATE:20251102T020000
END:STANDARD
BEGIN:DAYLIGHT
TZNAME:CDT
DTSTART:20240310T020000
TZOFFSETFROM:-0600
TZOFFSETTO:-0500
RDATE:20250309T020000
RDATE:20260308T020000
END:DAYLIGHT
END:VTIMEZONE
BEGIN:VEVENT
UID:6c2bc2fe-f897-45d8-acbd-fbff15861e54
DTSTAMP:20260423T161936Z
DESCRIPTION:
DTSTART;TZID=America/Chicago:20241025T050000
DTEND;TZID=America/Chicago:20241025T050001
LOCATION:
SUMMARY:Grade Cards Distributed
END:VEVENT
END:VCALENDAR
