BEGIN:VCALENDAR
VERSION:2.0
PRODID:-//tandcschool.org//NONSGML kigkonsult.se iCalcreator 2.30.10//
CALSCALE:GREGORIAN
METHOD:PUBLISH
UID:cbe60e64-690b-4945-8785-c80335c2a946
X-WR-CALDESC:
X-WR-RELCALID:e66b070173107f55f0bfb60bccb9789d
X-WR-TIMEZONE:America/Chicago
BEGIN:VTIMEZONE
TZID:America/Chicago
BEGIN:STANDARD
TZNAME:CST
DTSTART:20231105T020000
TZOFFSETFROM:-0500
TZOFFSETTO:-0600
RDATE:20241103T020000
RDATE:20251102T020000
END:STANDARD
BEGIN:DAYLIGHT
TZNAME:CDT
DTSTART:20240310T020000
TZOFFSETFROM:-0600
TZOFFSETTO:-0500
RDATE:20250309T020000
RDATE:20260308T020000
END:DAYLIGHT
END:VTIMEZONE
BEGIN:VEVENT
UID:4a9a60b4-4ff2-4708-b3c0-2d62a206df4b
DTSTAMP:20260423T164926Z
DESCRIPTION:
DTSTART;TZID=America/Chicago:20241025T150000
DTEND;TZID=America/Chicago:20241025T154500
LOCATION:
SUMMARY:E-Gaming Club B
END:VEVENT
END:VCALENDAR
