BEGIN:VCALENDAR
VERSION:2.0
PRODID:-//tandcschool.org//NONSGML kigkonsult.se iCalcreator 2.30.10//
CALSCALE:GREGORIAN
METHOD:PUBLISH
UID:b06d6472-60ae-4871-88b9-70f1048578d8
X-WR-CALDESC:
X-WR-RELCALID:af2c593d7b89f1c92e682adfa4c99646
X-WR-TIMEZONE:America/Chicago
BEGIN:VTIMEZONE
TZID:America/Chicago
BEGIN:STANDARD
TZNAME:CST
DTSTART:20231105T020000
TZOFFSETFROM:-0500
TZOFFSETTO:-0600
RDATE:20241103T020000
RDATE:20251102T020000
END:STANDARD
BEGIN:DAYLIGHT
TZNAME:CDT
DTSTART:20240310T020000
TZOFFSETFROM:-0600
TZOFFSETTO:-0500
RDATE:20250309T020000
RDATE:20260308T020000
END:DAYLIGHT
END:VTIMEZONE
BEGIN:VEVENT
UID:2d6d3c46-417b-468d-b3cf-7d2615726260
DTSTAMP:20260423T162215Z
DESCRIPTION:
DTSTART;TZID=America/Chicago:20241024T150000
DTEND;TZID=America/Chicago:20241024T154500
LOCATION:
SUMMARY:MS Running Club
END:VEVENT
END:VCALENDAR
