BEGIN:VCALENDAR
VERSION:2.0
PRODID:-//tandcschool.org//NONSGML kigkonsult.se iCalcreator 2.30.10//
CALSCALE:GREGORIAN
METHOD:PUBLISH
UID:38dcce6b-5f8a-4796-983d-bc9432e8a04f
X-WR-CALDESC:
X-WR-RELCALID:7b6366839a675c767fac9297e21042d8
X-WR-TIMEZONE:America/Chicago
BEGIN:VTIMEZONE
TZID:America/Chicago
BEGIN:STANDARD
TZNAME:CST
DTSTART:20231105T020000
TZOFFSETFROM:-0500
TZOFFSETTO:-0600
RDATE:20241103T020000
RDATE:20251102T020000
END:STANDARD
BEGIN:DAYLIGHT
TZNAME:CDT
DTSTART:20240310T020000
TZOFFSETFROM:-0600
TZOFFSETTO:-0500
RDATE:20250309T020000
RDATE:20260308T020000
END:DAYLIGHT
END:VTIMEZONE
BEGIN:VEVENT
UID:2a162532-2140-4fd2-9227-3dd42f705ef7
DTSTAMP:20260423T162306Z
DESCRIPTION:
DTSTART;TZID=America/Chicago:20241024T152000
DTEND;TZID=America/Chicago:20241024T160000
LOCATION:
SUMMARY:LS Running Club
END:VEVENT
END:VCALENDAR
