BEGIN:VCALENDAR
VERSION:2.0
PRODID:-//tandcschool.org//NONSGML kigkonsult.se iCalcreator 2.30.10//
CALSCALE:GREGORIAN
METHOD:PUBLISH
UID:db59e79b-8161-4b37-af61-1154666686bc
X-WR-CALDESC:
X-WR-RELCALID:ad4b5c3bc5150cb706f89bb5a3c983db
X-WR-TIMEZONE:America/Chicago
BEGIN:VTIMEZONE
TZID:America/Chicago
BEGIN:STANDARD
TZNAME:CST
DTSTART:20231105T020000
TZOFFSETFROM:-0500
TZOFFSETTO:-0600
RDATE:20241103T020000
RDATE:20251102T020000
END:STANDARD
BEGIN:DAYLIGHT
TZNAME:CDT
DTSTART:20240310T020000
TZOFFSETFROM:-0600
TZOFFSETTO:-0500
RDATE:20250309T020000
RDATE:20260308T020000
END:DAYLIGHT
END:VTIMEZONE
BEGIN:VEVENT
UID:d139af6b-b8e0-42fa-a008-c830e743e61f
DTSTAMP:20260423T162341Z
DESCRIPTION:
DTSTART;TZID=America/Chicago:20241024T153000
DTEND;TZID=America/Chicago:20241024T163000
LOCATION:
SUMMARY:LS Cooking
END:VEVENT
END:VCALENDAR
