BEGIN:VCALENDAR
VERSION:2.0
PRODID:-//tandcschool.org//NONSGML kigkonsult.se iCalcreator 2.30.10//
CALSCALE:GREGORIAN
METHOD:PUBLISH
UID:90a16528-c548-4e91-b457-d2a257b18bf7
X-WR-CALDESC:
X-WR-RELCALID:ed54c890cbbce925db56c5f30efec7c2
X-WR-TIMEZONE:America/Chicago
BEGIN:VTIMEZONE
TZID:America/Chicago
BEGIN:STANDARD
TZNAME:CST
DTSTART:20231105T020000
TZOFFSETFROM:-0500
TZOFFSETTO:-0600
RDATE:20241103T020000
RDATE:20251102T020000
END:STANDARD
BEGIN:DAYLIGHT
TZNAME:CDT
DTSTART:20240310T020000
TZOFFSETFROM:-0600
TZOFFSETTO:-0500
RDATE:20250309T020000
RDATE:20260308T020000
END:DAYLIGHT
END:VTIMEZONE
BEGIN:VEVENT
UID:97705ac5-eb9a-4093-a516-05df802ef60b
DTSTAMP:20260423T162306Z
DESCRIPTION:
DTSTART;TZID=America/Chicago:20241024T151500
DTEND;TZID=America/Chicago:20241024T160000
LOCATION:
SUMMARY:Band
END:VEVENT
END:VCALENDAR
