BEGIN:VCALENDAR
VERSION:2.0
PRODID:-//tandcschool.org//NONSGML kigkonsult.se iCalcreator 2.30.10//
CALSCALE:GREGORIAN
METHOD:PUBLISH
UID:84a19a19-3a53-46f0-a032-f2c65ac22d4b
X-WR-CALDESC:
X-WR-RELCALID:7594732c386b5e535bfad59713d2b20e
X-WR-TIMEZONE:America/Chicago
BEGIN:VTIMEZONE
TZID:America/Chicago
BEGIN:STANDARD
TZNAME:CST
DTSTART:20231105T020000
TZOFFSETFROM:-0500
TZOFFSETTO:-0600
RDATE:20241103T020000
RDATE:20251102T020000
END:STANDARD
BEGIN:DAYLIGHT
TZNAME:CDT
DTSTART:20240310T020000
TZOFFSETFROM:-0600
TZOFFSETTO:-0500
RDATE:20250309T020000
RDATE:20260308T020000
END:DAYLIGHT
END:VTIMEZONE
BEGIN:VEVENT
UID:4b534f74-86d6-4674-af7d-fa071e52586c
DTSTAMP:20260423T161937Z
DESCRIPTION:
DTSTART;TZID=America/Chicago:20241023T050000
DTEND;TZID=America/Chicago:20241023T050001
LOCATION:
SUMMARY:Grades Due
END:VEVENT
END:VCALENDAR
