BEGIN:VCALENDAR
VERSION:2.0
PRODID:-//tandcschool.org//NONSGML kigkonsult.se iCalcreator 2.30.10//
CALSCALE:GREGORIAN
METHOD:PUBLISH
UID:71f293d2-92f2-47d1-8e2d-a99b99724852
X-WR-CALDESC:
X-WR-RELCALID:13e4d02c8a1011e149804beb820b0a3c
X-WR-TIMEZONE:America/Chicago
BEGIN:VTIMEZONE
TZID:America/Chicago
BEGIN:STANDARD
TZNAME:CST
DTSTART:20231105T020000
TZOFFSETFROM:-0500
TZOFFSETTO:-0600
RDATE:20241103T020000
RDATE:20251102T020000
END:STANDARD
BEGIN:DAYLIGHT
TZNAME:CDT
DTSTART:20240310T020000
TZOFFSETFROM:-0600
TZOFFSETTO:-0500
RDATE:20250309T020000
RDATE:20260308T020000
END:DAYLIGHT
END:VTIMEZONE
BEGIN:VEVENT
UID:0e74e23e-3f35-4423-b26d-a79cce2c56df
DTSTAMP:20260423T162305Z
DESCRIPTION:
DTSTART;TZID=America/Chicago:20241022T150000
DTEND;TZID=America/Chicago:20241022T154500
LOCATION:
SUMMARY:HS Running Club
END:VEVENT
END:VCALENDAR
