BEGIN:VCALENDAR
VERSION:2.0
PRODID:-//tandcschool.org//NONSGML kigkonsult.se iCalcreator 2.30.10//
CALSCALE:GREGORIAN
METHOD:PUBLISH
UID:1a0e202a-f213-4f56-bc59-272719c00b11
X-WR-CALDESC:
X-WR-RELCALID:7a6d970de9f5ba870138cb8d98acd319
X-WR-TIMEZONE:America/Chicago
BEGIN:VTIMEZONE
TZID:America/Chicago
BEGIN:STANDARD
TZNAME:CST
DTSTART:20231105T020000
TZOFFSETFROM:-0500
TZOFFSETTO:-0600
RDATE:20241103T020000
RDATE:20251102T020000
END:STANDARD
BEGIN:DAYLIGHT
TZNAME:CDT
DTSTART:20240310T020000
TZOFFSETFROM:-0600
TZOFFSETTO:-0500
RDATE:20250309T020000
RDATE:20260308T020000
END:DAYLIGHT
END:VTIMEZONE
BEGIN:VEVENT
UID:a015cb9d-3d7f-4c93-91ce-359c13548109
DTSTAMP:20260423T164811Z
DESCRIPTION:
DTSTART;TZID=America/Chicago:20241022T152000
DTEND;TZID=America/Chicago:20241022T160000
LOCATION:
SUMMARY:LS Lego Club
END:VEVENT
END:VCALENDAR
