BEGIN:VCALENDAR
VERSION:2.0
PRODID:-//tandcschool.org//NONSGML kigkonsult.se iCalcreator 2.30.10//
CALSCALE:GREGORIAN
METHOD:PUBLISH
UID:ae4f6a92-f851-4d74-b2b2-7eb49f422f2f
X-WR-CALDESC:
X-WR-RELCALID:45e60d23000d8cca7fa8833742a7a4e8
X-WR-TIMEZONE:America/Chicago
BEGIN:VTIMEZONE
TZID:America/Chicago
BEGIN:STANDARD
TZNAME:CST
DTSTART:20231105T020000
TZOFFSETFROM:-0500
TZOFFSETTO:-0600
RDATE:20241103T020000
RDATE:20251102T020000
END:STANDARD
BEGIN:DAYLIGHT
TZNAME:CDT
DTSTART:20240310T020000
TZOFFSETFROM:-0600
TZOFFSETTO:-0500
RDATE:20250309T020000
RDATE:20260308T020000
END:DAYLIGHT
END:VTIMEZONE
BEGIN:VEVENT
UID:81395325-0de8-412f-8a95-16397b9f1cb8
DTSTAMP:20260423T162103Z
DESCRIPTION:
DTSTART;TZID=America/Chicago:20241021T050000
DTEND;TZID=America/Chicago:20241025T050001
LOCATION:
SUMMARY:Red Ribbon Week
END:VEVENT
END:VCALENDAR
