BEGIN:VCALENDAR
VERSION:2.0
PRODID:-//tandcschool.org//NONSGML kigkonsult.se iCalcreator 2.30.10//
CALSCALE:GREGORIAN
METHOD:PUBLISH
UID:889090e7-04c8-4dca-b044-7368b9208b33
X-WR-CALDESC:
X-WR-RELCALID:6ad02d93ee1665faf3305b7aa9687f9b
X-WR-TIMEZONE:America/Chicago
BEGIN:VTIMEZONE
TZID:America/Chicago
BEGIN:STANDARD
TZNAME:CST
DTSTART:20231105T020000
TZOFFSETFROM:-0500
TZOFFSETTO:-0600
RDATE:20241103T020000
RDATE:20251102T020000
END:STANDARD
BEGIN:DAYLIGHT
TZNAME:CDT
DTSTART:20240310T020000
TZOFFSETFROM:-0600
TZOFFSETTO:-0500
RDATE:20250309T020000
RDATE:20260308T020000
END:DAYLIGHT
END:VTIMEZONE
BEGIN:VEVENT
UID:0ea827bf-975f-4ef1-981a-3f3cb36857da
DTSTAMP:20260423T163556Z
DESCRIPTION:
DTSTART;TZID=America/Chicago:20241021T150000
DTEND;TZID=America/Chicago:20241021T160000
LOCATION:
SUMMARY:MS Lego Club
END:VEVENT
END:VCALENDAR
